Workbook

Sheet СПИСОК СЛУШАТЕЛЕЙ
A1: Список приглашенных на курсы повышения квалификации по программе «О совершенствовании обучения детей основам правил дорожного движения и привитии им навыков безопасного поведения на дорогах»
A2: Место проведения: ЦНППМ ГБУ ДПО «ДИРО»
A3: г. Махачкала, ул. Магомедтагирова 159
A4: Очный этап занятий: 8 октября 2026 г. - (Актовый зал, 2 этаж)
A5: Начало занятий - 09:00 Начало регистрации: 08:30
A6: № | B6: ФИО | C6: Образовательная организация | D6: Муниципалитет
A7: 1 | B7: Рамазанов Абдулгашим Шафиевич | C7: МКОУ"Буршагская СОШ" | D7: Агульский район
A8: 2 | B8: Магомедов Шамиль Саидович | C8: МКОУ "Бургимакмахинская СОШ" | D8: Акушинский район
A9: 3 | B9: Валкаев Магомед Ибрагимович | C9: МКОУ "Чинимахинская ООШ" | D9: Акушинский район
A10: 4 | B10: Рабаданов Шамиль Газимагомедович | C10: МКОУ "Тебекмахинская СОШ" | D10: Акушинский район
A11: 5 | B11: Мухумаев Хаджимурад Абдулвахидович | C11: МКОУ"Бутринская СОШ им.Саидова М.Р." | D11: Акушинский район
A12: 6 | B12: Магомедов Исмаил Идрисович | C12: МКОУ "Цунимахинская ООШ" | D12: Акушинский район
A13: 7 | B13: Курбанов Абдулла Ахмедович | C13: МКОУ "Усишинская СОШ№3" | D13: Акушинский район
A14: 8 | B14: Салманов Умалат Абдуллаевич | C14: МКОУ "Шинкбалакадинская ООШ" | D14: Акушинский район
A15: 9 | B15: Иманалиев Махач Байсулаевич | C15: МБОУ "Цолодинская СОШ" | D15: Ахвахский район
A16: 10 | B16: Магомедов Бадрудинн Магомедович | C16: МБОУ "Каратинская общеобразовательная гимназия" | D16: Ахвахский район
A17: 11 | B17: Асланова Зияфат Бейбалаевна | C17: МКОУ "Гогазская СОШ" | D17: Ахтынский район
A18: 12 | B18: Касумов Эдик Гамзаевич | C18: МКОУ "Ново-Усурская СОШ" | D18: Ахтынский район
... A137: 131 | B137: Амиргамзаев Амиргамза Магомедович | C137: МКОУ "Урибская СОШ" | D137: Шамильский район

Sheet Лист1
A1: № | B1: Направления | C1: Эл.почта | D1: Квота | E1: Выполнено по квоте | F1: Долг
A2: 1 | B2: Агульский район | C2: agul.uo@yandex.ru m.a.i.1979@yandex.ru | D2: 2 | E2: =COUNTIFS('СПИСОК СЛУШАТЕЛЕЙ'!$C$7:$C$334,$B2) -> 0 | F2: =D2-E2 -> 2
A3: 2 | B3: Акушинский район | C3: akushauos@mail.ru | D3: 2 | E3: =COUNTIFS('СПИСОК СЛУШАТЕЛЕЙ'!$C$7:$C$334,$B3) -> 0 | F3: =D3-E3 -> 2
A4: 3 | B4: Ахвахский район | C4: ahvahruo@mail.ru | D4: 2 | E4: =COUNTIFS('СПИСОК СЛУШАТЕЛЕЙ'!$C$7:$C$334,$B4) -> 0 | F4: =D4-E4 -> 2
A5: 4 | B5: Ахтынский район | C5: ahtynskoeruo@mail.ru | D5: 2 | E5: =COUNTIFS('СПИСОК СЛУШАТЕЛЕЙ'!$C$7:$C$334,$B5) -> 0 | F5: =D5-E5 -> 2
A6: 5 | B6: Бабаюртовский район | C6: muratbekbolatov@yandex.ru babayrtruo@mail.ru babayurtobr.yusupovas@mail.ru | D6: 2 | E6: =COUNTIFS('СПИСОК СЛУШАТЕЛЕЙ'!$C$7:$C$334,$B6) -> 0 | F6: =D6-E6 -> 2
A7: 6 | B7: Бежтинский участок | C7: uobejta2013@yandex.ru | D7: 2 | E7: =COUNTIFS('СПИСОК СЛУШАТЕЛЕЙ'!$C$7:$C$334,$B7) -> 0 | F7: =D7-E7 -> 2
A8: 7 | B8: Ботлихский район | C8: botlihruo@mail.ru | D8: 2 | E8: =COUNTIFS('СПИСОК СЛУШАТЕЛЕЙ'!$C$7:$C$334,$B8) -> 0 | F8: =D8-E8 -> 2
A9: 8 | B9: Буйнакск | C9: bguo@mail.ru | D9: 6 | E9: =COUNTIFS('СПИСОК СЛУШАТЕЛЕЙ'!$C$7:$C$334,$B9) -> 0 | F9: =D9-E9 -> 6
A10: 9 | B10: Буйнакский район | C10: amirkhanova2206@mail.ru bruo30@mail.ru | D10: 2 | E10: =COUNTIFS('СПИСОК СЛУШАТЕЛЕЙ'!$C$7:$C$334,$B10) -> 0 | F10: =D10-E10 -> 2
A11: 10 | B11: Гергебильский район | C11: ruo-ger@yandex.ru | D11: 2 | E11: =COUNTIFS('СПИСОК СЛУШАТЕЛЕЙ'!$C$7:$C$334,$B11) -> 0 | F11: =D11-E11 -> 2
A12: 11 | B12: Гумбетовский район | C12: gumbetruo@yandex.ru | D12: 2 | E12: =COUNTIFS('СПИСОК СЛУШАТЕЛЕЙ'!$C$7:$C$334,$B12) -> 0 | F12: =D12-E12 -> 2
A13: 12 | B13: Гунибский район | C13: Magomedova_1942@mail.ru metodkab.72@mail.ru | D13: 2 | E13: =COUNTIFS('СПИСОК СЛУШАТЕЛЕЙ'!$C$7:$C$334,$B13) -> 0 | F13: =D13-E13 -> 2
... A23: 22 | B23: Каспийск | C23: kaspguo@mail.ru metod.fadeeva@yandex.ru | D23: 6 | E23: =COUNTIFS('СПИСОК СЛУШАТЕЛЕЙ'!$C$7:$C$334,$B23) -> 0 | F23: =D23-E23 -> 6
B24: Каспийск РЦО | C24: rco_rd@mail.ru | D24: 0 | E24: =COUNTIFS('СПИСОК СЛУШАТЕЛЕЙ'!$C$7:$C$334,$B24) -> 0 | F24: =D24-E24 -> 0
A25: 23 | B25: Каякентский район | C25: uokayakent@yandex.ru | D25: 1 | E25: =COUNTIFS('СПИСОК СЛУШАТЕЛЕЙ'!$C$7:$C$334,$B25) -> 0 | F25: =D25-E25 -> 1
A26: 24 | B26: Кизилюрт | C26: goo.kizilyurt@yandex.ru | D26: 6 | E26: =COUNTIFS('СПИСОК СЛУШАТЕЛЕЙ'!$C$7:$C$334,$B26) -> 0 | F26: =D26-E26 -> 6
A27: 25 | B27: Кизилюртовский район | C27: kizilurt-ruo@yandex.ru amina.k86@bk.ru | D27: 1 | E27: =COUNTIFS('СПИСОК СЛУШАТЕЛЕЙ'!$C$7:$C$334,$B27) -> 0 | F27: =D27-E27 -> 1
A28: 26 | B28: Кизляр | C28: guo@mo-kizlyar.ru guo-kizljr@mail.ru | D28: 6 | E28: =COUNTIFS('СПИСОК СЛУШАТЕЛЕЙ'!$C$7:$C$334,$B28) -> 0 | F28: =D28-E28 -> 6
A29: 27 | B29: Кизлярский район | C29: patina_magomedovna@mail.ru kizlar_ruo@mail.ru | D29: 1 | E29: =COUNTIFS('СПИСОК СЛУШАТЕЛЕЙ'!$C$7:$C$334,$B29) -> 0 | F29: =D29-E29 -> 1
A30: 28 | B30: Кулинский район | C30: kuliuo@mail.ru | D30: 1 | E30: =COUNTIFS('СПИСОК СЛУШАТЕЛЕЙ'!$C$7:$C$334,$B30) -> 0 | F30: =D30-E30 -> 1
A31: 29 | B31: Кумторкалинский район | C31: kumuo@mail.ru | D31: 1 | E31: =COUNTIFS('СПИСОК СЛУШАТЕЛЕЙ'!$C$7:$C$334,$B31) -> 0 | F31: =D31-E31 -> 1
A32: 30 | B32: Курахский район | C32: Kurahimc@mail.ru kurahobr@mail.ru | D32: 1 | E32: =COUNTIFS('СПИСОК СЛУШАТЕЛЕЙ'!$C$7:$C$334,$B32) -> 0 | F32: =D32-E32 -> 1
A33: 31 | B33: Лакский район | C33: lakskiyo@mail.ru | D33: 1 | E33: =COUNTIFS('СПИСОК СЛУШАТЕЛЕЙ'!$C$7:$C$334,$B33) -> 0 | F33: =D33-E33 -> 1
A34: 32 | B34: Левашинский район | C34: levashi.muo@yandex.ru | D34: 1 | E34: =COUNTIFS('СПИСОК СЛУШАТЕЛЕЙ'!$C$7:$C$334,$B34) -> 0 | F34: =D34-E34 -> 1
A35: 33 | B35: Магарамкентский район | C35: magaramkentruo@yandex.ru | D35: 1 | E35: =COUNTIFS('СПИСОК СЛУШАТЕЛЕЙ'!$C$7:$C$334,$B35) -> 0 | F35: =D35-E35 -> 1
A36: 34 | B36: Махачкала | C36: m-guo@yandex.ru otdelmetodinfo@yandex.ru shkola_yusupova@mail.ru | D36: 6 | E36: =COUNTIFS('СПИСОК СЛУШАТЕЛЕЙ'!$C$7:$C$334,$B36) -> 0 | F36: =D36-E36 -> 6
B37: Подвед - Махачкала ВАТАН | C37: raiskie.ptichki@yandex.ru | D37: 0 | E37: =COUNTIFS('СПИСОК СЛУШАТЕЛЕЙ'!$C$7:$C$334,$B37) -> 0 | F37: =D37-E37 -> 0
B38: Подвед - Махачкала РМЛИ ДОД | C38: rml_05@mail.ru | D38: 0 | E38: =COUNTIFS('СПИСОК СЛУШАТЕЛЕЙ'!$C$7:$C$334,$B38) -> 0 | F38: =D38-E38 -> 0
B39: Подвед - Махачкала РЦДОДИ | C39: rcdo@mail.ru | D39: 0 | E39: =COUNTIFS('СПИСОК СЛУШАТЕЛЕЙ'!$C$7:$C$334,$B39) -> 0 | F39: =D39-E39 -> 0
B40: Подвед - Махачкала Солнечный берег | C40: naida.12345@mail.ru | D40: 0 | E40: =COUNTIFS('СПИСОК СЛУШАТЕЛЕЙ'!$C$7:$C$334,$B40) -> 0 | F40: =D40-E40 -> 0
B41: Подвед - Махачкала РЛИ Центр одаренных детей | C41: Lsiyadat@mail.ru | D41: 0 | E41: =COUNTIFS('СПИСОК СЛУШАТЕЛЕЙ'!$C$7:$C$334,$B41) -> 0 | F41: =D41-E41 -> 0
B42: Подвед - Махачкала РЛИ ЦОД | C42: rlicod@yandex.ru | D42: 0 | E42: =COUNTIFS('СПИСОК СЛУШАТЕЛЕЙ'!$C$7:$C$334,$B42) -> 0 | F42: =D42-E42 -> 0
A43: 35 | B43: Новолакский район | C43: uo_novolak@mail.ru uokamila@mail.ru | D43: 1 | E43: =COUNTIFS('СПИСОК СЛУШАТЕЛЕЙ'!$C$7:$C$334,$B43) -> 0 | F43: =D43-E43 -> 1
A44: 36 | B44: Ногайский район | C44: nogaioo@yandex.ru murzagishieva1979@mail.ru | D44: 1 | E44: =COUNTIFS('СПИСОК СЛУШАТЕЛЕЙ'!$C$7:$C$334,$B44) -> 0 | F44: =D44-E44 -> 1
A45: 37 | B45: Рутульский район | C45: rutul-ruo@yandex.ru | D45: 1 | E45: =COUNTIFS('СПИСОК СЛУШАТЕЛЕЙ'!$C$7:$C$334,$B45) -> 0 | F45: =D45-E45 -> 1
A46: 38 | B46: Сергокалинский район | C46: sergokalaruo@mail.ru | D46: 1 | E46: =COUNTIFS('СПИСОК СЛУШАТЕЛЕЙ'!$C$7:$C$334,$B46) -> 0 | F46: =D46-E46 -> 1
A47: 39 | B47: Сулейман-Стальский район | C47: azim1963@yandex.ru s.stalskoe.uo@yandex.ru | D47: 1 | E47: =COUNTIFS('СПИСОК СЛУШАТЕЛЕЙ'!$C$7:$C$334,$B47) -> 0 | F47: =D47-E47 -> 1
A48: 40 | B48: Табасаранский район | C48: nasyr-52-52@mail.ru zuma57-57@mail.ru | D48: 1 | E48: =COUNTIFS('СПИСОК СЛУШАТЕЛЕЙ'!$C$7:$C$334,$B48) -> 0 | F48: =D48-E48 -> 1
A49: 41 | B49: Тарумовский район | C49: truo0531@mail.ru | D49: 1 | E49: =COUNTIFS('СПИСОК СЛУШАТЕЛЕЙ'!$C$7:$C$334,$B49) -> 0 | F49: =D49-E49 -> 1
...
